BEGIN:VCALENDAR
VERSION:2.0
PRODID:-//A-LAW - ECPv6.5.1.5//NONSGML v1.0//EN
CALSCALE:GREGORIAN
METHOD:PUBLISH
X-ORIGINAL-URL:https://www.alaw.org.uk
X-WR-CALDESC:Events for A-LAW
REFRESH-INTERVAL;VALUE=DURATION:PT1H
X-Robots-Tag:noindex
X-PUBLISHED-TTL:PT1H
BEGIN:VTIMEZONE
TZID:Europe/London
BEGIN:DAYLIGHT
TZOFFSETFROM:+0000
TZOFFSETTO:+0100
TZNAME:BST
DTSTART:20210328T010000
END:DAYLIGHT
BEGIN:STANDARD
TZOFFSETFROM:+0100
TZOFFSETTO:+0000
TZNAME:GMT
DTSTART:20211031T010000
END:STANDARD
END:VTIMEZONE
BEGIN:VEVENT
DTSTART;TZID=Europe/London:20210915T183000
DTEND;TZID=Europe/London:20210915T200000
DTSTAMP:20260421T135852
CREATED:20210815T175247Z
LAST-MODIFIED:20210817T005734Z
UID:28535-1631730600-1631736000@www.alaw.org.uk
SUMMARY:Animal Law Careers: Academic Pathways
DESCRIPTION:Join us as we welcome guest speakers Professor Johanna Gibson (Queen Mary’s University\, London)\, Iyan Offor (Lecturer in Law at Birmingham City University)\, Dr Debbie Rook (Principal lecturer in law at Northumbria University) and Dr Angus Nurse (Senior Lecturer in Criminology\, Nottingham Trent University) to discuss academic careers in animal law\, including criminology. \nDuring this panel discussion (hosted by A-LAW’s Young Animal Lawyers Network) you will learn about the speakers’ journeys into animal academia\, in which direction they see this subject moving in the future and any challenges they have faced along the way. We will also be seeking advice and recommendations for those starting out on their journey and you will have the opportunity to ask questions during the session.
URL:https://www.alaw.org.uk/event/animal-law-careers-academic-pathways/
LOCATION:Online
CATEGORIES:Careers
ATTACH;FMTTYPE=image/png:https://www.alaw.org.uk/wp-content/uploads/2021/08/Copy-of-Copy-of-Copy-of-Project-tiles-3.png
ORGANIZER;CN="UK Centre for Animal Law":MAILTO:info@alaw.org.uk
END:VEVENT
BEGIN:VEVENT
DTSTART;TZID=Europe/London:20210928T180000
DTEND;TZID=Europe/London:20210928T193000
DTSTAMP:20260421T135852
CREATED:20210908T180617Z
LAST-MODIFIED:20210908T180808Z
UID:28911-1632852000-1632857400@www.alaw.org.uk
SUMMARY:Enforcing Against Animal Cruelty: Prosecution & Beyond
DESCRIPTION:The webinar will take place on 28 September 2021 and we are welcoming guest speakers\, Edie Bowles\, solicitor and co-founder of Advocates for Animals\, and Jacob Lloyd from Animal Protection Services. \nJacob will be discussing the important work of Animal Protection Services\, including how they conduct investigations and prosecution. Calling on examples from Advocates for Animals casework\, Edie will discuss a range of legal tools that can be used to enforce animal protection laws.
URL:https://www.alaw.org.uk/event/enforcing-against-animal-cruelty-prosecution-beyond/
LOCATION:Online
CATEGORIES:Webinars
ATTACH;FMTTYPE=image/png:https://www.alaw.org.uk/wp-content/uploads/2021/09/Events-1.png
ORGANIZER;CN="UK Centre for Animal Law":MAILTO:info@alaw.org.uk
END:VEVENT
END:VCALENDAR